BEGIN:VCALENDAR
VERSION:2.0
PRODID:-//eventon.com NONSGML v1.0//EN
CALSCALE:GREGORIAN
METHOD:PUBLISH
BEGIN:VEVENT
UID:69e99ece0c1b2
DTSTAMP:20260423T042342Z
DTSTART:20250314T170000Z
DTEND:20250314T180000Z
LOCATION:
SUMMARY:Clinician Teacher in Breastfeeding and Lactation Medicine: A Healthcare Series
DESCRIPTION:Clinician Teacher in Breastfeeding and Lactation Medicine: A He
 althcare Series WHO Code Marketing: The Basics & Its Implementation Friday\
 ,  March 14\,  2025 12:00 – 1:00 pm CST Webinar\nhttps://lacted.org/event
 s/clinician-teacher-in-breastfeeding-and-lactation-medicine-a-healthcare-se
 ries-3-2/
URL:https://lacted.org/events/clinician-teacher-in-breastfeeding-and-lactation-medicine-a-healthcare-series-3-2/
END:VEVENT
END:VCALENDAR